BEGIN:VCALENDAR
VERSION:2.0
PRODID:-//ChamberMaster//Event Calendar 2.0//EN
METHOD:PUBLISH
X-PUBLISHED-TTL:P3D
REFRESH-INTERVAL:P3D
CALSCALE:GREGORIAN
BEGIN:VEVENT
DTSTART:20090124T000000Z
DTEND:20090124T030000Z
X-MICROSOFT-CDO-ALLDAYEVENT:FALSE
SUMMARY:77th Annual Banquet (2009)
DESCRIPTION:
X-ALT-DESC;FMTTYPE=text/html:
LOCATION:The Atrium at the Granville Arts Center
UID:e.2096.518
SEQUENCE:3
DTSTAMP:20260424T091326Z
URL:https://network.garlandchamber.com/events/details/77th-annual-banquet-2009-01-23-2009-518
END:VEVENT

END:VCALENDAR
