BEGIN:VCALENDAR
VERSION:2.0
PRODID:-//ChamberMaster//Event Calendar 2.0//EN
METHOD:PUBLISH
X-PUBLISHED-TTL:P3D
REFRESH-INTERVAL:P3D
CALSCALE:GREGORIAN
BEGIN:VEVENT
DTSTART:20100130T000000Z
DTEND:20100130T030000Z
X-MICROSOFT-CDO-ALLDAYEVENT:FALSE
SUMMARY:78th Annual Banquet (2010)
DESCRIPTION:
X-ALT-DESC;FMTTYPE=text/html:
LOCATION:Hyatt Place Dallas/ Garland
UID:e.2096.664
SEQUENCE:3
DTSTAMP:20260423T180035Z
URL:https://network.garlandchamber.com/events/details/78th-annual-banquet-2010-01-29-2010-664
END:VEVENT

END:VCALENDAR
