BEGIN:VCALENDAR
VERSION:2.0
PRODID:-//ChamberMaster//Event Calendar 2.0//EN
METHOD:PUBLISH
X-PUBLISHED-TTL:P3D
REFRESH-INTERVAL:P3D
CALSCALE:GREGORIAN
BEGIN:VEVENT
DTSTART:20110212T000000Z
DTEND:20110212T013000Z
X-MICROSOFT-CDO-ALLDAYEVENT:FALSE
SUMMARY:79th Annual Banquet (2011)
DESCRIPTION:
X-ALT-DESC;FMTTYPE=text/html:
LOCATION:Hyatt Place Dallas/ Garland
UID:e.2096.769
SEQUENCE:3
DTSTAMP:20260422T222826Z
URL:https://network.garlandchamber.com/events/details/79th-annual-banquet-2011-02-11-2011-769
END:VEVENT

END:VCALENDAR
