BEGIN:VCALENDAR
VERSION:2.0
PRODID:-//ChamberMaster//Event Calendar 2.0//EN
METHOD:PUBLISH
X-PUBLISHED-TTL:P3D
REFRESH-INTERVAL:P3D
CALSCALE:GREGORIAN
BEGIN:VEVENT
DTSTART:20130615T190000Z
DTEND:20130615T210000Z
X-MICROSOFT-CDO-ALLDAYEVENT:FALSE
SUMMARY:80th Anniversary Celebration: Roach Feed & Seed Co.
DESCRIPTION:Please join us to celebrate the 80th anniversary of Roach Feed & Seed Co. in downtown Garland. The Garland Landmark Society will present a Historical Marker for the building. Live MusicRefreshmentsCasual Attire
X-ALT-DESC;FMTTYPE=text/html:<DIV style="FONT-FAMILY: Arial">Please join us to celebrate the 80th anniversary of Roach Feed &amp\; Seed Co. in downtown Garland.</DIV><DIV style="FONT-FAMILY: Arial">&nbsp\;</DIV><DIV style="FONT-FAMILY: Arial">The Garland Landmark Society will present a Historical Marker for the building.</DIV><DIV style="FONT-FAMILY: Arial">&nbsp\;</DIV><DIV style="FONT-FAMILY: Arial">Live Music</DIV><DIV style="FONT-FAMILY: Arial">Refreshments</DIV><DIV style="FONT-FAMILY: Arial">Casual Attire</DIV>
LOCATION:Roach Feed & Seed Co.
UID:e.2096.1196
SEQUENCE:3
DTSTAMP:20260421T061838Z
URL:https://network.garlandchamber.com/events/details/80th-anniversary-celebration-roach-feed-seed-co-06-15-2013-1196
END:VEVENT

END:VCALENDAR
