BEGIN:VCALENDAR
VERSION:2.0
PRODID:-//ChamberMaster//Event Calendar 2.0//EN
METHOD:PUBLISH
X-PUBLISHED-TTL:P3D
REFRESH-INTERVAL:P3D
CALSCALE:GREGORIAN
BEGIN:VEVENT
DTSTART:20140131T000000Z
DTEND:20140131T030000Z
X-MICROSOFT-CDO-ALLDAYEVENT:FALSE
SUMMARY:82nd Annual Banquet (2014)
DESCRIPTION:The Garland Chamber of Commerce invites you to join us for an elegant evening at the 82nd Annual Banquet\, the annual meeting of the Chamber.\n\n \n\nLocation: The Atrium at the Granville Arts Center\n\nDate: Thursday\, January 30\, 2014\n\nTime: 6:00 to 9:00 p.m.\n\nCost: $75 per member\, $750 table of ten\n\n$85 per non member\, $850 table of ten\n\n \n\nSponsored by: Northwestern Mutual
X-ALT-DESC;FMTTYPE=text/html:<div style="font-family: Arial\;">The Garland Chamber of Commerce invites you to join us for an elegant evening&nbsp\;at the 82nd Annual Banquet\, the annual meeting of the Chamber.</div>\n\n<div style="font-family: Arial\;">&nbsp\;</div>\n\n<div style="font-family: Arial\;">Location: The Atrium at the Granville Arts Center</div>\n\n<div style="font-family: Arial\;">Date: Thursday\, January 30\, 2014</div>\n\n<div style="font-family: Arial\;">Time: 6:00 to 9:00 p.m.</div>\n\n<div style="font-family: Arial\;">Cost: $75 per member\, $750 table of ten</div>\n\n<div style="font-family: Arial\;">$85 per non member\, $850 table of ten</div>\n\n<div style="font-family: Arial\;">&nbsp\;</div>\n\n<div style="font-family: Arial\;">Sponsored by: <a datafld="0:0" href="http://bosaavedra.nmfn.com/">Northwestern Mutual</a></div>\n
LOCATION:The Atrium at the Granville Arts Center
UID:e.2096.1207
SEQUENCE:3
DTSTAMP:20260420T212705Z
URL:https://network.garlandchamber.com/events/details/82nd-annual-banquet-2014-01-30-2014-1207
END:VEVENT

END:VCALENDAR
