BEGIN:VCALENDAR
VERSION:2.0
PRODID:-//ChamberMaster//Event Calendar 2.0//EN
METHOD:PUBLISH
X-PUBLISHED-TTL:P3D
REFRESH-INTERVAL:P3D
CALSCALE:GREGORIAN
BEGIN:VEVENT
DTSTART:20150130T000000Z
DTEND:20150130T030000Z
X-MICROSOFT-CDO-ALLDAYEVENT:FALSE
SUMMARY:83rd Annual Banquet (2015)
DESCRIPTION:The Garland Chamber of Commerce invites you to join us for an elegant evening at the 83rd Annual Banquet\, the annual meeting of the Chamber.\n\n \n\n \n\nSponsored by: _____________
X-ALT-DESC;FMTTYPE=text/html:<div style="font-family: Arial\;">The Garland Chamber of Commerce invites you to join us for an elegant evening&nbsp\;at the 83rd Annual Banquet\, the annual meeting of the Chamber.</div>\n\n<div style="font-family: Arial\;">&nbsp\;</div>\n\n<div style="font-family: Arial\;">&nbsp\;</div>\n\n<div style="font-family: Arial\;">Sponsored by: <a datafld="0:0" href="http://bosaavedra.nmfn.com/">_____________</a></div>\n
LOCATION:The Atrium at the Granville Arts Center
UID:e.2096.1242
SEQUENCE:3
DTSTAMP:20260420T031603Z
URL:https://network.garlandchamber.com/events/details/83rd-annual-banquet-2015-01-29-2015-1242
END:VEVENT

END:VCALENDAR
