BEGIN:VCALENDAR
VERSION:2.0
PRODID:-//ChamberMaster//Event Calendar 2.0//EN
METHOD:PUBLISH
X-PUBLISHED-TTL:P3D
REFRESH-INTERVAL:P3D
CALSCALE:GREGORIAN
BEGIN:VEVENT
DTSTART:20070325T000000Z
DTEND:20070325T020000Z
X-MICROSOFT-CDO-ALLDAYEVENT:FALSE
SUMMARY:A Celtic Celebration: Story\, Song and Dance
DESCRIPTION:We’ll kick off our celebration with master story teller Dan Gibson.  Everyone will participate in Dan’s stories and songs\, as he stirs your imagination and make you laugh out loud.  Then get ready totap your toes\; Brothers 3 have grown from a trio of siblings to a unique seven-member group playingtraditional celtic songs and tunes in styles ranging from folk\, country and jazz to World Beat.  Clever arrangements\, strong vocals\, and terrific instrumentation honor the old tunes while placing themsquarely in the 21st century.  To round off the evening\, you will be mesmerized by an exhibition ofIrish dancing featuring World Champion Rive Dancer Jason Hays and other wonderful dancers from theMcTeggart School of Irish dance.\nFor further information call 972-860-7185 or visit www.eastfieldcollege.com. Free\, general seating available (no tickets needed). Open to the public. Doors open at 6:30 pm.
X-ALT-DESC;FMTTYPE=text/html:We’ll kick off our celebration with master story teller Dan Gibson.  Everyone will participate in Dan’s stories and songs\, as he stirs your imagination and make you laugh out loud.  Then get ready totap your toes\; Brothers 3 have grown from a trio of siblings to a unique seven-member group playingtraditional celtic songs and tunes in styles ranging from folk\, country and jazz to World Beat.  Clever arrangements\, strong vocals\, and terrific instrumentation honor the old tunes while placing themsquarely in the 21st century.  To round off the evening\, you will be mesmerized by an exhibition ofIrish dancing featuring World Champion Rive Dancer Jason Hays and other wonderful dancers from theMcTeggart School of Irish dance.\nFor further information call 972-860-7185 or visit www.eastfieldcollege.com. Free\, general seating available (no tickets needed). Open to the public. Doors open at 6:30 pm.
LOCATION:Eastfield College
UID:e.2096.30
SEQUENCE:3
DTSTAMP:20260425T163648Z
URL:https://network.garlandchamber.com/events/details/a-celtic-celebration-story-song-and-dance-03-24-2007-30
END:VEVENT

END:VCALENDAR
