BEGIN:VCALENDAR
VERSION:2.0
PRODID:-//ChamberMaster//Event Calendar 2.0//EN
METHOD:PUBLISH
X-PUBLISHED-TTL:P3D
REFRESH-INTERVAL:P3D
CALSCALE:GREGORIAN
BEGIN:VEVENT
DTSTART:20070111T060000Z
DTEND:20071213T060000Z
X-MICROSOFT-CDO-ALLDAYEVENT:FALSE
SUMMARY:A.M. Connections 2007 Sponsors
DESCRIPTION:A.M. Connections 2007 Sponsors
X-ALT-DESC;FMTTYPE=text/html:A.M. Connections 2007 Sponsors
LOCATION:Varies
UID:e.2096.1658
SEQUENCE:3
DTSTAMP:20260425T032349Z
URL:https://network.garlandchamber.com/events/details/a-m-connections-2007-sponsors-01-11-2007-1658
END:VEVENT

END:VCALENDAR
