BEGIN:VCALENDAR
VERSION:2.0
PRODID:-//ChamberMaster//Event Calendar 2.0//EN
METHOD:PUBLISH
X-PUBLISHED-TTL:P3D
REFRESH-INTERVAL:P3D
CALSCALE:GREGORIAN
BEGIN:VEVENT
DTSTART:20100615T130000Z
DTEND:20100615T140000Z
X-MICROSOFT-CDO-ALLDAYEVENT:FALSE
SUMMARY:A.M. Connections at Pilar Funeral Home
DESCRIPTION:
X-ALT-DESC;FMTTYPE=text/html:
LOCATION:Pilar Funeral Home
UID:e.2096.789
SEQUENCE:3
DTSTAMP:20260423T094448Z
URL:https://network.garlandchamber.com/events/details/a-m-connections-at-pilar-funeral-home-06-15-2010-789
END:VEVENT

END:VCALENDAR
