BEGIN:VCALENDAR
VERSION:2.0
PRODID:-//ChamberMaster//Event Calendar 2.0//EN
METHOD:PUBLISH
X-PUBLISHED-TTL:P3D
REFRESH-INTERVAL:P3D
CALSCALE:GREGORIAN
BEGIN:VEVENT
DTSTART:20080617T130000Z
DTEND:20080617T140000Z
X-MICROSOFT-CDO-ALLDAYEVENT:FALSE
SUMMARY:A.M. Connections Networking Event
DESCRIPTION:
X-ALT-DESC;FMTTYPE=text/html:
LOCATION:Whataburger
UID:e.2096.538
SEQUENCE:3
DTSTAMP:20260424T183528Z
URL:https://network.garlandchamber.com/events/details/a-m-connections-networking-event-06-17-2008-538
END:VEVENT

END:VCALENDAR
