BEGIN:VCALENDAR
VERSION:2.0
PRODID:-//ChamberMaster//Event Calendar 2.0//EN
METHOD:PUBLISH
X-PUBLISHED-TTL:P3D
REFRESH-INTERVAL:P3D
CALSCALE:GREGORIAN
BEGIN:VEVENT
DTSTART:20090623T130000Z
DTEND:20090623T140000Z
X-MICROSOFT-CDO-ALLDAYEVENT:FALSE
SUMMARY:A.M. Connections Networking Event
DESCRIPTION:
X-ALT-DESC;FMTTYPE=text/html:
LOCATION:Winter's Park Assisted Living & Memory Care
UID:e.2096.672
SEQUENCE:3
DTSTAMP:20260424T023139Z
URL:https://network.garlandchamber.com/events/details/a-m-connections-networking-event-06-23-2009-672
END:VEVENT

END:VCALENDAR
