BEGIN:VCALENDAR
VERSION:2.0
PRODID:-//ChamberMaster//Event Calendar 2.0//EN
METHOD:PUBLISH
X-PUBLISHED-TTL:P3D
REFRESH-INTERVAL:P3D
CALSCALE:GREGORIAN
BEGIN:VEVENT
DTSTART:20080819T130000Z
DTEND:20080819T140000Z
X-MICROSOFT-CDO-ALLDAYEVENT:FALSE
SUMMARY:A.M. Connections Networking Event
DESCRIPTION:
X-ALT-DESC;FMTTYPE=text/html:
LOCATION:Christian Care Centers (Greenway Village)
UID:e.2096.563
SEQUENCE:3
DTSTAMP:20260424T160601Z
URL:https://network.garlandchamber.com/events/details/a-m-connections-networking-event-08-19-2008-563
END:VEVENT

END:VCALENDAR
