BEGIN:VCALENDAR
VERSION:2.0
PRODID:-//ChamberMaster//Event Calendar 2.0//EN
METHOD:PUBLISH
X-PUBLISHED-TTL:P3D
REFRESH-INTERVAL:P3D
CALSCALE:GREGORIAN
BEGIN:VEVENT
DTSTART:20110621T130000Z
DTEND:20110621T140000Z
X-MICROSOFT-CDO-ALLDAYEVENT:FALSE
SUMMARY:A.M. Connections Networking Sponsored by: Capital One
DESCRIPTION:
X-ALT-DESC;FMTTYPE=text/html:
LOCATION:Capital One
UID:e.2096.870
SEQUENCE:3
DTSTAMP:20260422T175718Z
URL:https://network.garlandchamber.com/events/details/a-m-connections-networking-sponsored-by-capital-one-06-21-2011-870
END:VEVENT

END:VCALENDAR
