BEGIN:VCALENDAR
VERSION:2.0
PRODID:-//ChamberMaster//Event Calendar 2.0//EN
METHOD:PUBLISH
X-PUBLISHED-TTL:P3D
REFRESH-INTERVAL:P3D
CALSCALE:GREGORIAN
BEGIN:VEVENT
DTSTART:20101214T140000Z
DTEND:20101214T150000Z
X-MICROSOFT-CDO-ALLDAYEVENT:FALSE
SUMMARY:A.M. Connections Networking Sponsored by: Sam's Club #4783
DESCRIPTION:
X-ALT-DESC;FMTTYPE=text/html:
LOCATION:Sam's Club #4783
UID:e.2096.846
SEQUENCE:3
DTSTAMP:20260423T024246Z
URL:https://network.garlandchamber.com/events/details/a-m-connections-networking-sponsored-by-sam-s-club-4783-12-14-2010-846
END:VEVENT

END:VCALENDAR
