BEGIN:VCALENDAR
VERSION:2.0
PRODID:-//ChamberMaster//Event Calendar 2.0//EN
METHOD:PUBLISH
X-PUBLISHED-TTL:P3D
REFRESH-INTERVAL:P3D
CALSCALE:GREGORIAN
BEGIN:VEVENT
DTSTART:20111013T130000Z
DTEND:20111013T140000Z
X-MICROSOFT-CDO-ALLDAYEVENT:FALSE
SUMMARY:A.M. Connections Networking Sponsored by: Verizon Wireless
DESCRIPTION:
X-ALT-DESC;FMTTYPE=text/html:
LOCATION:Verizon Wireless
UID:e.2096.871
SEQUENCE:3
DTSTAMP:20260422T105129Z
URL:https://network.garlandchamber.com/events/details/a-m-connections-networking-sponsored-by-verizon-wireless-10-13-2011-871
END:VEVENT

END:VCALENDAR
