BEGIN:VCALENDAR
VERSION:2.0
PRODID:-//ChamberMaster//Event Calendar 2.0//EN
METHOD:PUBLISH
X-PUBLISHED-TTL:P3D
REFRESH-INTERVAL:P3D
CALSCALE:GREGORIAN
BEGIN:VEVENT
DTSTART:20110517T130000Z
DTEND:20110517T140000Z
X-MICROSOFT-CDO-ALLDAYEVENT:FALSE
SUMMARY:A.M. Connections - Sponsored by: Affordable Chiropractic
DESCRIPTION:
X-ALT-DESC;FMTTYPE=text/html:
LOCATION:Affordable Chiropractic
UID:e.2096.921
SEQUENCE:3
DTSTAMP:20260422T175755Z
URL:https://network.garlandchamber.com/events/details/a-m-connections-sponsored-by-affordable-chiropractic-05-17-2011-921
END:VEVENT

END:VCALENDAR
