BEGIN:VCALENDAR
VERSION:2.0
PRODID:-//ChamberMaster//Event Calendar 2.0//EN
METHOD:PUBLISH
X-PUBLISHED-TTL:P3D
REFRESH-INTERVAL:P3D
CALSCALE:GREGORIAN
BEGIN:VEVENT
DTSTART:20091020T130000Z
DTEND:20091020T140000Z
X-MICROSOFT-CDO-ALLDAYEVENT:FALSE
SUMMARY:A.M. Connections Sponsored by: Red Robin
DESCRIPTION:
X-ALT-DESC;FMTTYPE=text/html:
LOCATION:Red Robin Gourmet Burgers & Spirits
UID:e.2096.713
SEQUENCE:3
DTSTAMP:20260423T221017Z
URL:https://network.garlandchamber.com/events/details/a-m-connections-sponsored-by-red-robin-10-20-2009-713
END:VEVENT

END:VCALENDAR
