BEGIN:VCALENDAR
VERSION:2.0
PRODID:-//ChamberMaster//Event Calendar 2.0//EN
METHOD:PUBLISH
X-PUBLISHED-TTL:P3D
REFRESH-INTERVAL:P3D
CALSCALE:GREGORIAN
BEGIN:VEVENT
DTSTART:20110419T130000Z
DTEND:20110419T140000Z
X-MICROSOFT-CDO-ALLDAYEVENT:FALSE
SUMMARY:A.M. Connections - Sponsored by: Whataburger
DESCRIPTION:
X-ALT-DESC;FMTTYPE=text/html:
LOCATION:Whataburger
UID:e.2096.869
SEQUENCE:3
DTSTAMP:20260422T205341Z
URL:https://network.garlandchamber.com/events/details/a-m-connections-sponsored-by-whataburger-04-19-2011-869
END:VEVENT

END:VCALENDAR
