BEGIN:VCALENDAR
VERSION:2.0
PRODID:-//ChamberMaster//Event Calendar 2.0//EN
METHOD:PUBLISH
X-PUBLISHED-TTL:P3D
REFRESH-INTERVAL:P3D
CALSCALE:GREGORIAN
BEGIN:VEVENT
DTSTART:20111213T140000Z
DTEND:20111213T150000Z
X-MICROSOFT-CDO-ALLDAYEVENT:FALSE
SUMMARY:A.M. Connections - Sponsored by: Whataburger
DESCRIPTION:Event Details: Upon arrival\, each attendee is asked to get a name tag and place a business card in the basket on the sign-in table (An excel spreadsheet of all attendees’ will be created and emailed to you after the meeting). The meeting will kick off with a 10 to 15 minutes of open networking. At 8:15 a.m. attendees will be asked to take a seat. The event sponsor will be introduced and allowed a five minute presentation. After the sponsor\, we will begin introductions/ commercials. Each attendee will be allowed 60 seconds. We encourage you to make your commercial fun\, bring props and don't forget to use a creative tag line. Finally\, we will have a  $25 gift card drawing at the end of the event. Out of respect for your time/ business\, we always strive to start and end on time.
X-ALT-DESC;FMTTYPE=text/html:<DIV><P style="TEXT-ALIGN: justify\; LINE-HEIGHT: normal\; MARGIN: 0in 0in 0pt\; mso-layout-grid-align: none" class=MsoNormal><B><SPAN style="FONT-FAMILY: 'Cambria'\,'serif'\; COLOR: #25714b">Event Details: </SPAN></B><SPAN style="FONT-FAMILY: 'Cambria'\,'serif'\; COLOR: black\; mso-bidi-font-weight: bold">Upon arrival\, each attendee is asked to get a name tag and place a business card in the basket on&nbsp\;the sign-in&nbsp\;table (An excel spreadsheet of all attendees’ will be created and emailed to you after the meeting). The meeting will kick off with a&nbsp\;10 to 15&nbsp\;minutes of open networking. At 8:15 a.m. attendees will be asked to take a seat. The event sponsor will be introduced and allowed a five&nbsp\;minute presentation. After the sponsor\, we will begin introductions/ commercials. Each attendee will be allowed 60 seconds. We encourage you to make your commercial fun\, bring props and don't forget to use a&nbsp\;creative tag line.&nbsp\;Finally\, we will&nbsp\;have a &nbsp\;$25 gift card drawing&nbsp\;at the end of the event. Out of respect for your time/ business\, we always strive to start and end on time.</SPAN></P></DIV>
LOCATION:Whataburger
UID:e.2096.872
SEQUENCE:3
DTSTAMP:20260422T091713Z
URL:https://network.garlandchamber.com/events/details/a-m-connections-sponsored-by-whataburger-12-13-2011-872
END:VEVENT

END:VCALENDAR
