BEGIN:VCALENDAR
VERSION:2.0
PRODID:-//ChamberMaster//Event Calendar 2.0//EN
METHOD:PUBLISH
X-PUBLISHED-TTL:P3D
REFRESH-INTERVAL:P3D
CALSCALE:GREGORIAN
BEGIN:VEVENT
DTSTART:20130301T013000Z
DTEND:20130301T033000Z
X-MICROSOFT-CDO-ALLDAYEVENT:FALSE
SUMMARY:A Night with the Stars
DESCRIPTION:Use the link below and enter code: GARLANDCOCNIGHT for discounted ticketshttp://stars.nhl.com/club/page.htm?id=86938
X-ALT-DESC;FMTTYPE=text/html:<P>Use the link below and enter code: GARLANDCOCNIGHT for discounted tickets</P><P><A href="http://stars.nhl.com/club/page.htm?id=86938">http://stars.nhl.com/club/page.htm?id=86938</A> </P>
LOCATION:American Airlines Center
UID:e.2096.1158
SEQUENCE:3
DTSTAMP:20260421T132338Z
URL:https://network.garlandchamber.com/events/details/a-night-with-the-stars-02-28-2013-1158
END:VEVENT

END:VCALENDAR
