BEGIN:VCALENDAR
VERSION:2.0
PRODID:-//ChamberMaster//Event Calendar 2.0//EN
METHOD:PUBLISH
X-PUBLISHED-TTL:P3D
REFRESH-INTERVAL:P3D
CALSCALE:GREGORIAN
BEGIN:VEVENT
DTSTART:20080112T170000Z
DTEND:20080112T060000Z
X-MICROSOFT-CDO-ALLDAYEVENT:FALSE
SUMMARY:Academy of Arts Grand Opening Celebration
DESCRIPTION:
X-ALT-DESC;FMTTYPE=text/html:
LOCATION:Academy of Arts
UID:e.2096.478
SEQUENCE:3
DTSTAMP:20260425T032641Z
URL:https://network.garlandchamber.com/events/details/academy-of-arts-grand-opening-celebration-01-12-2008-478
END:VEVENT

END:VCALENDAR
