BEGIN:VCALENDAR
VERSION:2.0
PRODID:-//ChamberMaster//Event Calendar 2.0//EN
METHOD:PUBLISH
X-PUBLISHED-TTL:P3D
REFRESH-INTERVAL:P3D
CALSCALE:GREGORIAN
BEGIN:VEVENT
DTSTART:20090917T150000Z
DTEND:20090917T050000Z
X-MICROSOFT-CDO-ALLDAYEVENT:FALSE
SUMMARY:Addicare Adolescent Outpatient Program Ribbon Cutting Ceremo
DESCRIPTION:
X-ALT-DESC;FMTTYPE=text/html:
LOCATION:Addicare
UID:e.2096.703
SEQUENCE:3
DTSTAMP:20260423T221041Z
URL:https://network.garlandchamber.com/events/details/addicare-adolescent-outpatient-program-ribbon-cutting-ceremo-09-17-2009-703
END:VEVENT

END:VCALENDAR
