BEGIN:VCALENDAR
VERSION:2.0
PRODID:-//ChamberMaster//Event Calendar 2.0//EN
METHOD:PUBLISH
X-PUBLISHED-TTL:P3D
REFRESH-INTERVAL:P3D
CALSCALE:GREGORIAN
BEGIN:VEVENT
DTSTART:20111013T180000Z
DTEND:20111013T050000Z
X-MICROSOFT-CDO-ALLDAYEVENT:FALSE
SUMMARY:Advanced Health & Rehab Box Lunch Bingo
DESCRIPTION:
X-ALT-DESC;FMTTYPE=text/html:
LOCATION:Advanced Health & Rehab Center of Garland
UID:e.2096.960
SEQUENCE:3
DTSTAMP:20260422T105423Z
URL:https://network.garlandchamber.com/events/details/advanced-health-rehab-box-lunch-bingo-10-13-2011-960
END:VEVENT

END:VCALENDAR
