BEGIN:VCALENDAR
VERSION:2.0
PRODID:-//ChamberMaster//Event Calendar 2.0//EN
METHOD:PUBLISH
X-PUBLISHED-TTL:P3D
REFRESH-INTERVAL:P3D
CALSCALE:GREGORIAN
BEGIN:VEVENT
DTSTART:20120614T150000Z
DTEND:20120614T160000Z
X-MICROSOFT-CDO-ALLDAYEVENT:FALSE
SUMMARY:Advanced Health & Rehab Center of Garland Celebrates Flag Day
DESCRIPTION:Join Advanced Health & Rehab Center of Garland for a Flag Day celebration as they welcome the National Guard to raise the American flag in honor of the holiday. See the event flyer
X-ALT-DESC;FMTTYPE=text/html:<DIV style="FONT-FAMILY: Arial">Join Advanced Health &amp\; Rehab Center of Garland for a Flag Day celebration as they welcome the National Guard to raise the American flag in honor of the holiday.</DIV><DIV style="FONT-FAMILY: Arial">&nbsp\;</DIV><DIV style="FONT-FAMILY: Arial"><A dataFld=0:0 href="http://www.garlandchamber.com/images/stories/chamber/flag%20Day%20Flyer%202.pdf">See the event flyer</A></DIV>
LOCATION:Advanced Health & Rehab Center of Garland
UID:e.2096.1051
SEQUENCE:3
DTSTAMP:20260421T233927Z
URL:https://network.garlandchamber.com/events/details/advanced-health-rehab-center-of-garland-celebrates-flag-day-06-14-2012-1051
END:VEVENT

END:VCALENDAR
