BEGIN:VCALENDAR
VERSION:2.0
PRODID:-//ChamberMaster//Event Calendar 2.0//EN
METHOD:PUBLISH
X-PUBLISHED-TTL:P3D
REFRESH-INTERVAL:P3D
CALSCALE:GREGORIAN
BEGIN:VEVENT
DTSTART:20120213T220000Z
DTEND:20120214T010000Z
X-MICROSOFT-CDO-ALLDAYEVENT:FALSE
SUMMARY:Advanced Health & Rehab Center of Garland\, Valentine's Day Event
DESCRIPTION:
X-ALT-DESC;FMTTYPE=text/html:
LOCATION:Advanced Health & Rehab Center of Garland
UID:e.2096.995
SEQUENCE:3
DTSTAMP:20260422T052005Z
URL:https://network.garlandchamber.com/events/details/advanced-health-rehab-center-of-garland-valentine-s-day-event-02-13-2012-995
END:VEVENT

END:VCALENDAR
