BEGIN:VCALENDAR
VERSION:2.0
PRODID:-//ChamberMaster//Event Calendar 2.0//EN
METHOD:PUBLISH
X-PUBLISHED-TTL:P3D
REFRESH-INTERVAL:P3D
CALSCALE:GREGORIAN
BEGIN:VEVENT
DTSTART:20061018T050000Z
DTEND:20061018T050000Z
X-MICROSOFT-CDO-ALLDAYEVENT:FALSE
SUMMARY:Adverstising Roll Out Luncheon for 2007 Ads
DESCRIPTION:Adverstising Roll Out Luncheon for 2007 Ads
X-ALT-DESC;FMTTYPE=text/html:Adverstising Roll Out Luncheon for 2007 Ads
LOCATION:SEC
UID:e.2096.1631
SEQUENCE:3
DTSTAMP:20260426T001836Z
URL:https://network.garlandchamber.com/events/details/adverstising-roll-out-luncheon-for-2007-ads-10-18-2006-1631
END:VEVENT

END:VCALENDAR
