BEGIN:VCALENDAR
VERSION:2.0
PRODID:-//ChamberMaster//Event Calendar 2.0//EN
METHOD:PUBLISH
X-PUBLISHED-TTL:P3D
REFRESH-INTERVAL:P3D
CALSCALE:GREGORIAN
BEGIN:VEVENT
DTSTART:20120801T050000Z
DTEND:20120801T050000Z
X-MICROSOFT-CDO-ALLDAYEVENT:FALSE
SUMMARY:Advertising Roll Out Lunch 8/1/2012
DESCRIPTION:Advertising Roll Out Lunch 8/1/2012
X-ALT-DESC;FMTTYPE=text/html:Advertising Roll Out Lunch 8/1/2012
LOCATION:
UID:e.2096.2470
SEQUENCE:3
DTSTAMP:20260421T204451Z
URL:https://network.garlandchamber.com/events/details/advertising-roll-out-lunch-8-1-2012-08-01-2012-2470
END:VEVENT

END:VCALENDAR
