BEGIN:VCALENDAR
VERSION:2.0
PRODID:-//ChamberMaster//Event Calendar 2.0//EN
METHOD:PUBLISH
X-PUBLISHED-TTL:P3D
REFRESH-INTERVAL:P3D
CALSCALE:GREGORIAN
BEGIN:VEVENT
DTSTART:20080924T050000Z
DTEND:20080924T050000Z
X-MICROSOFT-CDO-ALLDAYEVENT:FALSE
SUMMARY:Advertising Roll Out Luncheon 2008
DESCRIPTION:Advertising Roll Out Luncheon 2008
X-ALT-DESC;FMTTYPE=text/html:Advertising Roll Out Luncheon 2008
LOCATION:SEC
UID:e.2096.1906
SEQUENCE:3
DTSTAMP:20260424T144436Z
URL:https://network.garlandchamber.com/events/details/advertising-roll-out-luncheon-2008-09-24-2008-1906
END:VEVENT

END:VCALENDAR
