BEGIN:VCALENDAR
VERSION:2.0
PRODID:-//ChamberMaster//Event Calendar 2.0//EN
METHOD:PUBLISH
X-PUBLISHED-TTL:P3D
REFRESH-INTERVAL:P3D
CALSCALE:GREGORIAN
BEGIN:VEVENT
DTSTART:20070101T060000Z
DTEND:20070101T060000Z
X-MICROSOFT-CDO-ALLDAYEVENT:FALSE
SUMMARY:ADVERTISING SALES CONTRACTS 2007
DESCRIPTION:ADVERTISING SALES CONTRACTS 2007
X-ALT-DESC;FMTTYPE=text/html:ADVERTISING SALES CONTRACTS 2007
LOCATION:
UID:e.2096.1663
SEQUENCE:3
DTSTAMP:20260425T193023Z
URL:https://network.garlandchamber.com/events/details/advertising-sales-contracts-2007-01-01-2007-1663
END:VEVENT

END:VCALENDAR
