BEGIN:VCALENDAR
VERSION:2.0
PRODID:-//ChamberMaster//Event Calendar 2.0//EN
METHOD:PUBLISH
X-PUBLISHED-TTL:P3D
REFRESH-INTERVAL:P3D
CALSCALE:GREGORIAN
BEGIN:VEVENT
DTSTART:20130821T050000Z
DTEND:20131220T060000Z
X-MICROSOFT-CDO-ALLDAYEVENT:FALSE
SUMMARY:ADVERTISING SALES CONTRACTS 2014
DESCRIPTION:ADVERTISING SALES CONTRACTS 2014
X-ALT-DESC;FMTTYPE=text/html:ADVERTISING SALES CONTRACTS 2014
LOCATION:
UID:e.2096.2589
SEQUENCE:3
DTSTAMP:20260420T213425Z
URL:https://network.garlandchamber.com/events/details/advertising-sales-contracts-2014-08-21-2013-2589
END:VEVENT

END:VCALENDAR
