BEGIN:VCALENDAR
VERSION:2.0
PRODID:-//ChamberMaster//Event Calendar 2.0//EN
METHOD:PUBLISH
X-PUBLISHED-TTL:P3D
REFRESH-INTERVAL:P3D
CALSCALE:GREGORIAN
BEGIN:VEVENT
DTSTART:20110924T120000Z
DTEND:20110924T150000Z
X-MICROSOFT-CDO-ALLDAYEVENT:FALSE
SUMMARY:All You Can Eat Pancake Breakfast at Chili's
DESCRIPTION:
X-ALT-DESC;FMTTYPE=text/html:
LOCATION:Chili's Bar & Grill
UID:e.2096.900
SEQUENCE:3
DTSTAMP:20260422T122258Z
URL:https://network.garlandchamber.com/events/details/all-you-can-eat-pancake-breakfast-at-chili-s-09-24-2011-900
END:VEVENT

END:VCALENDAR
