BEGIN:VCALENDAR
VERSION:2.0
PRODID:-//ChamberMaster//Event Calendar 2.0//EN
METHOD:PUBLISH
X-PUBLISHED-TTL:P3D
REFRESH-INTERVAL:P3D
CALSCALE:GREGORIAN
BEGIN:VEVENT
DTSTART:20120823T230000Z
DTEND:20120824T020000Z
X-MICROSOFT-CDO-ALLDAYEVENT:FALSE
SUMMARY:Amberton University Information Session
DESCRIPTION:Amberton University will host an information session for the 2012 Fall Session\, from 6 p.m. to 9 p.m. Thursday\, Aug. 23 at the Garland campus. The campus is located at 1700 Eastgate Dr.\, Garland\, TX 75041. New and prospective students will have the opportunity to ask university advisors about admission and enrollment requirements\, distance learning programs and courses to be offered. Classes for the 10-week Fall Session begin Saturday\, Sept. 8. For more information\, visit Amberton University on the web at www.amberton.edu or call (972) 279-6511\, ext. 180 or 301. Amberton University has been an integral part of the Dallas/Fort Worth education community for more than 40 years. Amberton is a fully accredited university designed for working adults and offers evening and weekend courses as well as distance learning online.
X-ALT-DESC;FMTTYPE=text/html:<DIV style="FONT-FAMILY: Arial">Amberton University will host an information session for the 2012 Fall Session\, from 6 p.m. to 9 p.m. Thursday\, Aug. 23 at the Garland campus. The campus is located at 1700 Eastgate Dr.\, Garland\, TX 75041.</DIV><DIV style="FONT-FAMILY: Arial">&nbsp\;</DIV><DIV style="FONT-FAMILY: Arial">New and prospective students will have the opportunity to ask university advisors about admission and enrollment requirements\, distance learning programs and courses to be offered. Classes for the 10-week Fall Session begin Saturday\, Sept. 8.</DIV><DIV style="FONT-FAMILY: Arial">&nbsp\;</DIV><DIV style="FONT-FAMILY: Arial">For more information\, visit Amberton University on the web at <A href="http://www.amberton.edu">www.amberton.edu</A> or call (972) 279-6511\, ext. 180 or 301.</DIV><DIV style="FONT-FAMILY: Arial">&nbsp\;</DIV><DIV style="FONT-FAMILY: Arial"><EM>Amberton University has been an integral part of the Dallas/Fort Worth education community for more than 40 years. Amberton is a fully accredited university designed for working adults and offers evening and weekend courses as well as distance learning online.</EM></DIV>
LOCATION:Amberton University
UID:e.2096.1038
SEQUENCE:3
DTSTAMP:20260421T204332Z
URL:https://network.garlandchamber.com/events/details/amberton-university-information-session-08-23-2012-1038
END:VEVENT

END:VCALENDAR
