BEGIN:VCALENDAR
VERSION:2.0
PRODID:-//ChamberMaster//Event Calendar 2.0//EN
METHOD:PUBLISH
X-PUBLISHED-TTL:P3D
REFRESH-INTERVAL:P3D
CALSCALE:GREGORIAN
BEGIN:VEVENT
DTSTART:20100522T220000Z
DTEND:20100522T100000Z
X-MICROSOFT-CDO-ALLDAYEVENT:FALSE
SUMMARY:American Cancer Society Relay for Life (Garland)
DESCRIPTION:
X-ALT-DESC;FMTTYPE=text/html:
LOCATION:Naaman High School
UID:e.2096.650
SEQUENCE:3
DTSTAMP:20260423T105222Z
URL:https://network.garlandchamber.com/events/details/american-cancer-society-relay-for-life-garland-05-22-2010-650
END:VEVENT

END:VCALENDAR
