BEGIN:VCALENDAR
VERSION:2.0
PRODID:-//ChamberMaster//Event Calendar 2.0//EN
METHOD:PUBLISH
X-PUBLISHED-TTL:P3D
REFRESH-INTERVAL:P3D
CALSCALE:GREGORIAN
BEGIN:VEVENT
DTSTART:20120517T230000Z
DTEND:20120517T050000Z
X-MICROSOFT-CDO-ALLDAYEVENT:FALSE
SUMMARY:Amish Dinner at The Generator
DESCRIPTION:The Generator Coffee House will be your taste of the Amish life style for an evening. Thursday\, May 17Doors open at 6 p.m.\, Dinner served at 6:30 p.m. See flyer for additional details\, including menu.
X-ALT-DESC;FMTTYPE=text/html:<DIV style="FONT-FAMILY: Arial">The Generator Coffee House will be your taste of the Amish life style for an evening.</DIV><DIV style="FONT-FAMILY: Arial">&nbsp\;</DIV><DIV style="FONT-FAMILY: Arial">Thursday\, May 17</DIV><DIV style="FONT-FAMILY: Arial">Doors open at 6 p.m.\, Dinner served at 6:30 p.m.</DIV><DIV style="FONT-FAMILY: Arial">&nbsp\;</DIV><DIV style="FONT-FAMILY: Arial"><A dataFld=0:0 href="http://www.garlandchamber.com/images/stories/chamber/Dinner%20Amish.pdf">See flyer for additional details</A>\, including menu.</DIV>
LOCATION:The Generator Coffee House & Bakery
UID:e.2096.1041
SEQUENCE:3
DTSTAMP:20260422T010148Z
URL:https://network.garlandchamber.com/events/details/amish-dinner-at-the-generator-05-17-2012-1041
END:VEVENT

END:VCALENDAR
