BEGIN:VCALENDAR
VERSION:2.0
PRODID:-//ChamberMaster//Event Calendar 2.0//EN
METHOD:PUBLISH
X-PUBLISHED-TTL:P3D
REFRESH-INTERVAL:P3D
CALSCALE:GREGORIAN
BEGIN:VEVENT
DTSTART:20081214T013000Z
DTEND:20081213T060000Z
X-MICROSOFT-CDO-ALLDAYEVENT:FALSE
SUMMARY:An American Christmas featuring Patti La Belle
DESCRIPTION:
X-ALT-DESC;FMTTYPE=text/html:
LOCATION:G.I.S.D. Special Events Center Arena
UID:e.2096.606
SEQUENCE:3
DTSTAMP:20260424T105339Z
URL:https://network.garlandchamber.com/events/details/an-american-christmas-featuring-patti-la-belle-12-13-2008-606
END:VEVENT

END:VCALENDAR
