BEGIN:VCALENDAR
VERSION:2.0
PRODID:-//ChamberMaster//Event Calendar 2.0//EN
METHOD:PUBLISH
X-PUBLISHED-TTL:P3D
REFRESH-INTERVAL:P3D
CALSCALE:GREGORIAN
BEGIN:VEVENT
DTSTART:20080118T060000Z
DTEND:20080118T060000Z
X-MICROSOFT-CDO-ALLDAYEVENT:FALSE
SUMMARY:Annual Banquet Chairman's Reception 2008
DESCRIPTION:Annual Banquet Chairman's Reception 2008
X-ALT-DESC;FMTTYPE=text/html:Annual Banquet Chairman's Reception 2008
LOCATION:The Atrium at the Granville Arts Center
UID:e.2096.1796
SEQUENCE:3
DTSTAMP:20260425T032523Z
URL:https://network.garlandchamber.com/events/details/annual-banquet-chairman-s-reception-2008-01-18-2008-1796
END:VEVENT

END:VCALENDAR
