BEGIN:VCALENDAR
VERSION:2.0
PRODID:-//ChamberMaster//Event Calendar 2.0//EN
METHOD:PUBLISH
X-PUBLISHED-TTL:P3D
REFRESH-INTERVAL:P3D
CALSCALE:GREGORIAN
BEGIN:VEVENT
DTSTART:20130131T060000Z
DTEND:20130131T060000Z
X-MICROSOFT-CDO-ALLDAYEVENT:FALSE
SUMMARY:Annual Banquet VIP Cocktail Reception
DESCRIPTION:Annual Banquet VIP Cocktail Reception
X-ALT-DESC;FMTTYPE=text/html:Annual Banquet VIP Cocktail Reception
LOCATION:Hyatt Place Dallas/ Garland
UID:e.2096.2551
SEQUENCE:3
DTSTAMP:20260421T132305Z
URL:https://network.garlandchamber.com/events/details/annual-banquet-vip-cocktail-reception-01-31-2013-2551
END:VEVENT

END:VCALENDAR
