BEGIN:VCALENDAR
VERSION:2.0
PRODID:-//ChamberMaster//Event Calendar 2.0//EN
METHOD:PUBLISH
X-PUBLISHED-TTL:P3D
REFRESH-INTERVAL:P3D
CALSCALE:GREGORIAN
BEGIN:VEVENT
DTSTART:20121013T130000Z
DTEND:20121014T030000Z
X-MICROSOFT-CDO-ALLDAYEVENT:FALSE
SUMMARY:Applebee's Flapjack Fundraiser Breakfast
DESCRIPTION:Enjoy a short stack for a tall cause. You're invited to an Applebee's Flapjack Fundraiser breakfast to support Ethiopia Mission 2012. Tickets are $8.  See Additional Information
X-ALT-DESC;FMTTYPE=text/html:<DIV style="FONT-FAMILY: Arial">Enjoy a short stack for a tall cause.</DIV><DIV style="FONT-FAMILY: Arial">&nbsp\;</DIV><DIV style="FONT-FAMILY: Arial">You're invited to an Applebee's Flapjack Fundraiser breakfast to support Ethiopia Mission 2012. Tickets are $8. </DIV><DIV style="FONT-FAMILY: Arial">&nbsp\;</DIV><DIV style="FONT-FAMILY: Arial"><A dataFld=0:0 href="http://www.garlandchamber.com/images/stories/chamber/Member%20Promotions/Applebees%20for%20a%20cause.pdf">See Additional Information</A></DIV>
LOCATION:Applebee's
UID:e.2096.1097
SEQUENCE:3
DTSTAMP:20260421T175513Z
URL:https://network.garlandchamber.com/events/details/applebee-s-flapjack-fundraiser-breakfast-10-13-2012-1097
END:VEVENT

END:VCALENDAR
