BEGIN:VCALENDAR
VERSION:2.0
PRODID:-//ChamberMaster//Event Calendar 2.0//EN
METHOD:PUBLISH
X-PUBLISHED-TTL:P3D
REFRESH-INTERVAL:P3D
CALSCALE:GREGORIAN
BEGIN:VEVENT
DTSTART:20070417T130000Z
DTEND:20070417T140000Z
X-MICROSOFT-CDO-ALLDAYEVENT:FALSE
SUMMARY:April A.M. Connections
DESCRIPTION:This FREE morning networking event gives you the chance to meet other business people and make new contacts. These are not just networking events\, but and opportunity for you to connect with valuable resources/ people. Upon attending this event you are allowed 30 seconds to tell us about your business and express your business needs. You can also bring business cards/ brochures to hand out.
X-ALT-DESC;FMTTYPE=text/html:<DIV><P class=MsoNormal style="MARGIN: 0in 0in 0pt\; mso-layout-grid-align: none"><I><SPAN style="FONT-SIZE: 12pt\; COLOR: black\; FONT-FAMILY: 'Arial Narrow'\; mso-bidi-font-family: Arial">This </SPAN></I><?xml:namespace prefix = st1 ns = "urn:schemas-microsoft-com:office:smarttags" /><st1:stockticker><I><SPAN style="FONT-SIZE: 12pt\; COLOR: green\; FONT-FAMILY: 'Arial Narrow'\; mso-bidi-font-family: Arial">FREE</SPAN></I></st1:stockticker><I><SPAN style="FONT-SIZE: 12pt\; COLOR: black\; FONT-FAMILY: 'Arial Narrow'\; mso-bidi-font-family: Arial"> </SPAN></I><SPAN style="FONT-SIZE: 12pt\; COLOR: green\; FONT-FAMILY: 'Arial Narrow'\; mso-bidi-font-family: Arial\; mso-bidi-font-style: italic">morning</SPAN><B style="mso-bidi-font-weight: normal"><I><SPAN style="FONT-SIZE: 12pt\; COLOR: black\; FONT-FAMILY: 'Arial Narrow'\; mso-bidi-font-family: Arial"> </SPAN></I></B><I><SPAN style="FONT-SIZE: 12pt\; COLOR: black\; FONT-FAMILY: 'Arial Narrow'\; mso-bidi-font-family: Arial">networking event gives you the chance to meet other business people and make new contacts. </SPAN></I><SPAN style="FONT-SIZE: 12pt\; FONT-FAMILY: 'Arial Narrow'\; mso-bidi-font-family: Arial">These are not just networking events\, but&nbsp\;and&nbsp\;opportunity for you to connect with valuable resources/ people<I><SPAN style="COLOR: black">. Upon attending this event you are allowed 30 seconds to tell us about your business and express your business needs. You can also bring business cards/ brochures to hand out. <SPAN style="mso-spacerun: yes">&nbsp\;</SPAN><?xml:namespace prefix = o ns = "urn:schemas-microsoft-com:office:office" /><o:p></o:p></SPAN></I></SPAN></P></DIV>
LOCATION:Whataburger
UID:e.2096.353
SEQUENCE:3
DTSTAMP:20260425T150146Z
URL:https://network.garlandchamber.com/events/details/april-a-m-connections-04-17-2007-353
END:VEVENT

END:VCALENDAR
