BEGIN:VCALENDAR
VERSION:2.0
PRODID:-//ChamberMaster//Event Calendar 2.0//EN
METHOD:PUBLISH
X-PUBLISHED-TTL:P3D
REFRESH-INTERVAL:P3D
CALSCALE:GREGORIAN
BEGIN:VEVENT
DTSTART:20090421T130000Z
DTEND:20090421T140000Z
X-MICROSOFT-CDO-ALLDAYEVENT:FALSE
SUMMARY:April A.M. Connections at Chambrel at Club Hill
DESCRIPTION:
X-ALT-DESC;FMTTYPE=text/html:
LOCATION:Chambrel at Club Hill
UID:e.2096.659
SEQUENCE:3
DTSTAMP:20260424T064245Z
URL:https://network.garlandchamber.com/events/details/april-a-m-connections-at-chambrel-at-club-hill-04-21-2009-659
END:VEVENT

END:VCALENDAR
