BEGIN:VCALENDAR
VERSION:2.0
PRODID:-//ChamberMaster//Event Calendar 2.0//EN
METHOD:PUBLISH
X-PUBLISHED-TTL:P3D
REFRESH-INTERVAL:P3D
CALSCALE:GREGORIAN
BEGIN:VEVENT
DTSTART:20070411T123000Z
DTEND:20070411T140000Z
X-MICROSOFT-CDO-ALLDAYEVENT:FALSE
SUMMARY:April Business Skills Breakfast
DESCRIPTION:Whether you are thinking about starting your own business or already have a business\, this business skills series is designed for you. The Garland Chamber is pleased to present a series of informative topics that will provide you with ideas you can use in your business\, which will cost you little or nothing to implement. This business skills series will present you with the skills needed to manage a successful business and an opportunity to network with other business owners. This NEW event will feature a beneficial business topic in the first half with a networking session at the end.If you are interested in sponsoring this event\, please contact Kisha Allen at (469) 326-7454.
X-ALT-DESC;FMTTYPE=text/html:<DIV style="FONT-FAMILY: Arial"><P>Whether you are thinking about starting your own business or already have a business\, this business skills series is designed for you. The Garland Chamber is pleased to present a series of informative topics that will provide you with ideas you can use in your business\, which will cost you little or nothing to implement. This business skills series will present you with the skills needed to manage a successful business and an opportunity to network with other business owners. This <B><FONT color=#800080>NEW</B></FONT> event will feature a beneficial business topic in the first half with a networking session at the end.</P><B><I><FONT color=#008000><P align=center>If you are interested in sponsoring this event\, please contact Kisha Allen at (469) 326-7454.</P></B></I></FONT></DIV>
LOCATION:G.I.S.D. Special Events Center
UID:e.2096.352
SEQUENCE:3
DTSTAMP:20260425T151406Z
URL:https://network.garlandchamber.com/events/details/april-business-skills-breakfast-04-11-2007-352
END:VEVENT

END:VCALENDAR
