BEGIN:VCALENDAR
VERSION:2.0
PRODID:-//ChamberMaster//Event Calendar 2.0//EN
METHOD:PUBLISH
X-PUBLISHED-TTL:P3D
REFRESH-INTERVAL:P3D
CALSCALE:GREGORIAN
BEGIN:VEVENT
DTSTART:20070426T223000Z
DTEND:20070427T000000Z
X-MICROSOFT-CDO-ALLDAYEVENT:FALSE
SUMMARY:April P.M. Connections
DESCRIPTION:
X-ALT-DESC;FMTTYPE=text/html:
LOCATION:
UID:e.2096.372
SEQUENCE:3
DTSTAMP:20260425T145804Z
URL:https://network.garlandchamber.com/events/details/april-p-m-connections-04-26-2007-372
END:VEVENT

END:VCALENDAR
