BEGIN:VCALENDAR
VERSION:2.0
PRODID:-//ChamberMaster//Event Calendar 2.0//EN
METHOD:PUBLISH
X-PUBLISHED-TTL:P3D
REFRESH-INTERVAL:P3D
CALSCALE:GREGORIAN
BEGIN:VEVENT
DTSTART:20120519T170000Z
DTEND:20120519T190000Z
X-MICROSOFT-CDO-ALLDAYEVENT:FALSE
SUMMARY:Armed Forces Day Celebration
DESCRIPTION:Join us as we recognize our Military Families for their selfless dedication to our country! This event will be filled with fun entertainment\, activities and great food. If you are a family member or know someone of any US Armed Forces\, come out and celebrate with us! This event is FREE to the public. See the Event Flyer
X-ALT-DESC;FMTTYPE=text/html:<DIV style="FONT-FAMILY: Arial">Join us as we recognize our Military Families for their selfless dedication to our country! This event will be filled with fun entertainment\, activities and great food. If you are a family member or know someone of any US Armed Forces\, come out and celebrate with us! This event is FREE to the public.</DIV><DIV style="FONT-FAMILY: Arial">&nbsp\;</DIV><DIV style="FONT-FAMILY: Arial"><A dataFld=0:0 href="http://www.garlandchamber.com/images/stories/chamber/AFDEventFlyer.pdf">See the Event Flyer</A></DIV>
LOCATION:Firewheel Town Center
UID:e.2096.1044
SEQUENCE:3
DTSTAMP:20260422T010025Z
URL:https://network.garlandchamber.com/events/details/armed-forces-day-celebration-05-19-2012-1044
END:VEVENT

END:VCALENDAR
