BEGIN:VCALENDAR
VERSION:2.0
PRODID:-//ChamberMaster//Event Calendar 2.0//EN
METHOD:PUBLISH
X-PUBLISHED-TTL:P3D
REFRESH-INTERVAL:P3D
CALSCALE:GREGORIAN
BEGIN:VEVENT
DTSTART:20070724T163000Z
DTEND:20070724T050000Z
X-MICROSOFT-CDO-ALLDAYEVENT:FALSE
SUMMARY:AT&T Ribbon Cutting Ceremony (N. Garland)
DESCRIPTION:
X-ALT-DESC;FMTTYPE=text/html:
LOCATION:
UID:e.2096.426
SEQUENCE:3
DTSTAMP:20260425T103211Z
URL:https://network.garlandchamber.com/events/details/at-t-ribbon-cutting-ceremony-n-garland-07-24-2007-426
END:VEVENT

END:VCALENDAR
