BEGIN:VCALENDAR
VERSION:2.0
PRODID:-//ChamberMaster//Event Calendar 2.0//EN
METHOD:PUBLISH
X-PUBLISHED-TTL:P3D
REFRESH-INTERVAL:P3D
CALSCALE:GREGORIAN
BEGIN:VEVENT
DTSTART:20060810T050000Z
DTEND:20060810T050000Z
X-MICROSOFT-CDO-ALLDAYEVENT:FALSE
SUMMARY:August A.M. Connections Event
DESCRIPTION:August A.M. Connections Event
X-ALT-DESC;FMTTYPE=text/html:August A.M. Connections Event
LOCATION:
UID:e.2096.1606
SEQUENCE:3
DTSTAMP:20260426T031511Z
URL:https://network.garlandchamber.com/events/details/august-a-m-connections-event-08-10-2006-1606
END:VEVENT

END:VCALENDAR
