BEGIN:VCALENDAR
VERSION:2.0
PRODID:-//ChamberMaster//Event Calendar 2.0//EN
METHOD:PUBLISH
X-PUBLISHED-TTL:P3D
REFRESH-INTERVAL:P3D
CALSCALE:GREGORIAN
BEGIN:VEVENT
DTSTART:20060831T050000Z
DTEND:20060831T050000Z
X-MICROSOFT-CDO-ALLDAYEVENT:FALSE
SUMMARY:August P.M. Connections
DESCRIPTION:August P.M. Connections
X-ALT-DESC;FMTTYPE=text/html:August P.M. Connections
LOCATION:
UID:e.2096.1607
SEQUENCE:3
DTSTAMP:20260426T031512Z
URL:https://network.garlandchamber.com/events/details/august-p-m-connections-08-31-2006-1607
END:VEVENT

END:VCALENDAR
