BEGIN:VCALENDAR
VERSION:2.0
PRODID:-//ChamberMaster//Event Calendar 2.0//EN
METHOD:PUBLISH
X-PUBLISHED-TTL:P3D
REFRESH-INTERVAL:P3D
CALSCALE:GREGORIAN
BEGIN:VEVENT
DTSTART:20060816T050000Z
DTEND:20060816T050000Z
X-MICROSOFT-CDO-ALLDAYEVENT:FALSE
SUMMARY:August VIP Coffee 2006
DESCRIPTION:August VIP Coffee 2006
X-ALT-DESC;FMTTYPE=text/html:August VIP Coffee 2006
LOCATION:
UID:e.2096.1614
SEQUENCE:3
DTSTAMP:20260426T031500Z
URL:https://network.garlandchamber.com/events/details/august-vip-coffee-2006-08-16-2006-1614
END:VEVENT

END:VCALENDAR
