BEGIN:VCALENDAR
VERSION:2.0
PRODID:-//ChamberMaster//Event Calendar 2.0//EN
METHOD:PUBLISH
X-PUBLISHED-TTL:P3D
REFRESH-INTERVAL:P3D
CALSCALE:GREGORIAN
BEGIN:VEVENT
DTSTART:20120626T150000Z
DTEND:20120626T200000Z
X-MICROSOFT-CDO-ALLDAYEVENT:FALSE
SUMMARY:Autumn Leaves: Virtual Dementia Experience
DESCRIPTION:You're invited to the upcoming Virtual Dementia Experience on Tuesday\, June 26\, 2012 at Autumn Leaves Alzheimer's & Memory Care. Through the Alzheimer's Looking Glass is the custom\, in-depth\, interactive simulation designed to assist caregivers in understand more about their loved one's journey. See the event flyer for detailed information including a schedule of events and registration instructions.
X-ALT-DESC;FMTTYPE=text/html:<DIV style="FONT-FAMILY: Arial">You're invited to the upcoming Virtual Dementia Experience on Tuesday\, June 26\, 2012 at Autumn Leaves Alzheimer's &amp\;&nbsp\;Memory Care.</DIV><DIV style="FONT-FAMILY: Arial">&nbsp\;</DIV><DIV style="FONT-FAMILY: Arial">Through the Alzheimer's Looking Glass is the custom\, in-depth\, interactive simulation designed to assist caregivers in understand more about their loved one's journey.</DIV><DIV style="FONT-FAMILY: Arial">&nbsp\;</DIV><DIV style="FONT-FAMILY: Arial">See the <A dataFld=0:0 href="http://www.garlandchamber.com/images/stories/chamber/Member%20Promotions/Aut%20Lvs%20Rich%20N%20Garland-VirtualDemExperience%206%2026%2012.pdf">event flyer</A> for detailed information including a schedule of events and registration instructions.</DIV>
LOCATION:Autumn Leaves of Richardson/N. Garland Memory Care Residence
UID:e.2096.1060
SEQUENCE:3
DTSTAMP:20260421T233613Z
URL:https://network.garlandchamber.com/events/details/autumn-leaves-virtual-dementia-experience-06-26-2012-1060
END:VEVENT

END:VCALENDAR
