BEGIN:VCALENDAR
VERSION:2.0
PRODID:-//ChamberMaster//Event Calendar 2.0//EN
METHOD:PUBLISH
X-PUBLISHED-TTL:P3D
REFRESH-INTERVAL:P3D
CALSCALE:GREGORIAN
BEGIN:VEVENT
DTSTART:20070828T233000Z
DTEND:20070828T050000Z
X-MICROSOFT-CDO-ALLDAYEVENT:FALSE
SUMMARY:Balancing Your Hormones to Balance Your Life
DESCRIPTION:
X-ALT-DESC;FMTTYPE=text/html:
LOCATION:Lifetime Chiropractic
UID:e.2096.442
SEQUENCE:3
DTSTAMP:20260425T102546Z
URL:https://network.garlandchamber.com/events/details/balancing-your-hormones-to-balance-your-life-08-28-2007-442
END:VEVENT

END:VCALENDAR
