BEGIN:VCALENDAR
VERSION:2.0
PRODID:-//ChamberMaster//Event Calendar 2.0//EN
METHOD:PUBLISH
X-PUBLISHED-TTL:P3D
REFRESH-INTERVAL:P3D
CALSCALE:GREGORIAN
BEGIN:VEVENT
DTSTART:20061112T010000Z
DTEND:20061112T030000Z
X-MICROSOFT-CDO-ALLDAYEVENT:FALSE
SUMMARY:Ballet Folkórico Azteca with Mariachi Trio Los Soles
DESCRIPTION:From the colorful music of the Bamba from Veracruz\, with its picturesque ribbon-tying ceremony\, to the dancing of Nayarit and Michoacan\, to Jalisco\, Yucatan\, Oaxaca\, Tamaulipas\, Nuevo Leon\, Linares\, Chihuahua\, Zacatecas and Notchistlan\, and to the songs and traditions of the other distinctive regions of this exciting country\, you will never forget Ballet Folklorico Azteca! Through audience participation\, you will experience a joyful extravaganza that will thrill and delight you\, providing cultural and educational insight into our increasingly important and fascinating neighbor - Mexico.Mariachi Trio Los Soles will play in the lobby before the show begins and then proceed to the stage to begin the program and play as more than 40 dancers fill the stage.
X-ALT-DESC;FMTTYPE=text/html:From the colorful music of the Bamba from Veracruz\, with its picturesque ribbon-tying ceremony\, to the dancing of Nayarit and Michoacan\, to Jalisco\, Yucatan\, Oaxaca\, Tamaulipas\, Nuevo Leon\, Linares\, Chihuahua\, Zacatecas and Notchistlan\, and to the songs and traditions of the other distinctive regions of this exciting country\, you will never forget Ballet Folklorico Azteca! Through audience participation\, you will experience a joyful extravaganza that will thrill and delight you\, providing cultural and educational insight into our increasingly important and fascinating neighbor - Mexico.Mariachi Trio Los Soles will play in the lobby before the show begins and then proceed to the stage to begin the program and play as more than 40 dancers fill the stage.
LOCATION:Eastfield College
UID:e.2096.40
SEQUENCE:3
DTSTAMP:20260425T224217Z
URL:https://network.garlandchamber.com/events/details/ballet-folk&#243;rico-azteca-with-mariachi-trio-los-soles-11-11-2006-40
END:VEVENT

END:VCALENDAR
